﻿BEGIN:VCALENDAR
VERSION:2.0
PRODID:-//wp-events-plugin.com//7.0.4//EN
TZID:Asia/Jerusalem
X-WR-TIMEZONE:Asia/Jerusalem
BEGIN:VEVENT
UID:67@ieps.org.il
DTSTART;TZID=Asia/Jerusalem:20250307T083000
DTEND;TZID=Asia/Jerusalem:20250307T130000
DTSTAMP:20250227T100213Z
URL:https://www.ieps.org.il/events/%d7%90%d7%a0%d7%93%d7%95-%d7%95%d7%a0%d
 7%a4%d7%a8%d7%95-%d7%99%d7%9c%d7%93%d7%99%d7%9d-%d7%a7%d7%95%d7%95%d7%99%d
 7%9d-%d7%9e%d7%a9%d7%99%d7%a7%d7%99%d7%9d-%d7%99%d7%95%d7%9d-%d7%a2%d7%99/
SUMMARY:אנדו ונפרו ילדים - קווים משיקים בעול
 ם הילדים | יום עיון | 7.3.2025
DESCRIPTION:לרישום לחצו כאן\n
ATTACH;FMTTYPE=image/jpeg:https://www.ieps.org.il/images/event070325plan.p
 ng
CATEGORIES:כנסים בארץ
LOCATION:המרכז הרפואי שמיר (אסף הרופא)\, המרכז 
 הרפואי שמיר (אסף הרופא)\, צריפין\, Israel
X-APPLE-STRUCTURED-LOCATION;VALUE=URI;X-ADDRESS=המרכז הרפואי ש
 מיר (אסף הרופא)\, צריפין\, Israel;X-APPLE-RADIUS=100;X-TI
 TLE=המרכז הרפואי שמיר (אסף הרופא):geo:0,0
END:VEVENT
BEGIN:VTIMEZONE
TZID:Asia/Jerusalem
X-LIC-LOCATION:Asia/Jerusalem
BEGIN:STANDARD
DTSTART:20241027T010000
TZOFFSETFROM:+0300
TZOFFSETTO:+0200
TZNAME:IST
END:STANDARD
END:VTIMEZONE
END:VCALENDAR